BEGIN:VCALENDAR
VERSION:2.0
PRODID:-//217.160.0.164//NONSGML kigkonsult.se iCalcreator 2.20//
CALSCALE:GREGORIAN
METHOD:PUBLISH
X-WR-TIMEZONE:Europe/Berlin
BEGIN:VEVENT
UID:event5@Bücherei Emstek
DTSTAMP:20260420T083435Z
CATEGORIES:Events
DESCRIPTION:Patrick Nederkoorn\nKategorie: Events\nICS-Link: https://www.ko
 eb-emstek.de/index.php?option=com_jem&view=event&id=5:patrick-nederkoorn&I
 temid=203\n
DTSTART;TZID=Europe/Berlin:20260314T193000
DTEND;TZID=Europe/Berlin:20260314T193000
LOCATION:Grundschule Emstek\,Clemens-August-Str. 17\,49685 Emstek
SUMMARY:Patrick Nederkoorn
URL:https://www.koeb-emstek.de/index.php?option=com_jem&view=event&id=5:pat
 rick-nederkoorn&Itemid=203
END:VEVENT
END:VCALENDAR