BEGIN:VCALENDAR
VERSION:2.0
PRODID:-//217.160.0.164//NONSGML kigkonsult.se iCalcreator 2.20//
CALSCALE:GREGORIAN
METHOD:PUBLISH
X-WR-TIMEZONE:Europe/Berlin
BEGIN:VEVENT
UID:event38@Bücherei Emstek
DTSTAMP:20260420T015407Z
CATEGORIES:Events\, Aktionen
DESCRIPTION:Lesen am Tresen\nKategorie: Events\, Aktionen\nICS-Link: https:
 //www.koeb-emstek.de/index.php?option=com_jem&view=event&id=38:lesen-am-tr
 esen\n
DTSTART;TZID=Europe/Berlin:20260611T193000
DTEND;TZID=Europe/Berlin:20260611T193000
LOCATION:Schirmbar\,Am Markt 1\,49685 Emstek
SUMMARY:Lesen am Tresen
URL:https://www.koeb-emstek.de/index.php?option=com_jem&view=event&id=38:le
 sen-am-tresen
END:VEVENT
END:VCALENDAR