BEGIN:VCALENDAR
VERSION:2.0
PRODID:-//217.160.0.164//NONSGML kigkonsult.se iCalcreator 2.20//
CALSCALE:GREGORIAN
METHOD:PUBLISH
X-WR-TIMEZONE:Europe/Berlin
BEGIN:VEVENT
UID:event37@Bücherei Emstek
DTSTAMP:20260420T015012Z
CATEGORIES:Events
DESCRIPTION:Bingo-Abend\nKategorie: Events\nICS-Link: https://www.koeb-emst
 ek.de/index.php?option=com_jem&view=event&id=37:bingo-abend\n
DTSTART;TZID=Europe/Berlin:20260521T193000
DTEND;TZID=Europe/Berlin:20260521T193000
LOCATION:Schirmbar\,Am Markt 1\,49685 Emstek
SUMMARY:Bingo-Abend
URL:https://www.koeb-emstek.de/index.php?option=com_jem&view=event&id=37:bi
 ngo-abend
END:VEVENT
END:VCALENDAR